BEGIN:VCALENDAR
VERSION:2.0
PRODID:-//eventon.com NONSGML v1.0//EN
CALSCALE:GREGORIAN
METHOD:PUBLISH
BEGIN:VEVENT
UID:69e74c46d71c5
DTSTAMP:20260421T100702Z
DTSTART:20160730T080000Z
DTEND:20160730T170000Z
LOCATION:Middle Inlet Beach
SUMMARY:7th Annual Tige Wake UP
DESCRIPTION:7th Annual Tige Wake UP\nhttps://www.wakeutah.com/events/7th-an
 nual-tige-wake/
URL:https://www.wakeutah.com/events/7th-annual-tige-wake/
END:VEVENT
END:VCALENDAR