BEGIN:VCALENDAR
VERSION:2.0
PRODID:-//eventon.com NONSGML v1.0//EN
CALSCALE:GREGORIAN
METHOD:PUBLISH
BEGIN:VEVENT
UID:69e73d88e75c1
DTSTAMP:20260421T090408Z
DTSTART:20180603T100000Z
DTEND:20180603T120000Z
LOCATION:Jordanelle State Park 515 State Road 319\,  Heber City\,  UT 84032
SUMMARY:Jordanelle Reservoir Cleanup
DESCRIPTION:Come help us keep our water clean at Jordanelle Reservoir this 
 year. We will be bagging trash and cleaning the area around the water after
  Memorial Day weekend in an effort to keep the water we love so much clean 
 for everyone&#8217;e enjoyment. We will be serving food and drinks[..]\nhtt
 ps://www.wakeutah.com/events/jordanelle-reservoir-cleanup/
URL:https://www.wakeutah.com/events/jordanelle-reservoir-cleanup/
END:VEVENT
END:VCALENDAR